BEGIN:VCALENDAR
VERSION:2.0
PRODID:-//Frankenbund e.V. - ECPv6.15.20//NONSGML v1.0//EN
CALSCALE:GREGORIAN
METHOD:PUBLISH
X-WR-CALNAME:Frankenbund e.V.
X-ORIGINAL-URL:https://frankenbund.de
X-WR-CALDESC:Veranstaltungen für Frankenbund e.V.
REFRESH-INTERVAL;VALUE=DURATION:PT1H
X-Robots-Tag:noindex
X-PUBLISHED-TTL:PT1H
BEGIN:VTIMEZONE
TZID:Europe/Berlin
BEGIN:DAYLIGHT
TZOFFSETFROM:+0100
TZOFFSETTO:+0200
TZNAME:CEST
DTSTART:20240331T010000
END:DAYLIGHT
BEGIN:STANDARD
TZOFFSETFROM:+0200
TZOFFSETTO:+0100
TZNAME:CET
DTSTART:20241027T010000
END:STANDARD
BEGIN:DAYLIGHT
TZOFFSETFROM:+0100
TZOFFSETTO:+0200
TZNAME:CEST
DTSTART:20250330T010000
END:DAYLIGHT
BEGIN:STANDARD
TZOFFSETFROM:+0200
TZOFFSETTO:+0100
TZNAME:CET
DTSTART:20251026T010000
END:STANDARD
BEGIN:DAYLIGHT
TZOFFSETFROM:+0100
TZOFFSETTO:+0200
TZNAME:CEST
DTSTART:20260329T010000
END:DAYLIGHT
BEGIN:STANDARD
TZOFFSETFROM:+0200
TZOFFSETTO:+0100
TZNAME:CET
DTSTART:20261025T010000
END:STANDARD
BEGIN:DAYLIGHT
TZOFFSETFROM:+0100
TZOFFSETTO:+0200
TZNAME:CEST
DTSTART:20270328T010000
END:DAYLIGHT
BEGIN:STANDARD
TZOFFSETFROM:+0200
TZOFFSETTO:+0100
TZNAME:CET
DTSTART:20271031T010000
END:STANDARD
END:VTIMEZONE
BEGIN:VEVENT
DTSTART;TZID=Europe/Berlin:20250330T000000
DTEND;TZID=Europe/Berlin:20260131T235959
DTSTAMP:20260420T094714
CREATED:20250314T230756Z
LAST-MODIFIED:20250317T092623Z
UID:10000732-1743292800-1769903999@frankenbund.de
SUMMARY:Ausstellung „Franken & Treuchtlingen um 1920“
DESCRIPTION:Ort: Museum Treuchtlingen\, Heinrich-Aurnhammer-Straße 8\, 91757 TreuchtlingenZeitraum: 30. März 2025 – 31. Januar 2026Eintritt: Frei (Spenden willkommen)Öffnungszeiten: \n\n\n\n\nApril – Oktober: Dienstag bis Sonntag\, 13:00 – 17:00 Uhr\n\n\n\nNovember – März: Mittwoch bis Freitag\, Sonntag und Feiertage\, 13:00 – 17:00 Uhr\n\n\n\n\nHighlights und Termine: \n\n\n\n\nEröffnung: 30. März 2025\, 14:00 Uhr\n\n\n\nStummfilm-Abend: 21. November 2025\, 19:00 Uhr\n\n\n\nVorträge:\n\n10. Oktober 2025: Schriftstellerin Sophie Hoechstetter\n\nDezember 2025: Weihnachtstraditionen und Politik in Franken\n\n\n\n\n\n\n\nFührungen und Workshops: Jeden Sonntag um 14:00 Uhr (individuelle Buchung für Gruppen möglich)\n\n\n\n\nAnmeldung und Kontakt:museum@treuchtlingen.de | Telefon 09142 9600-65Weitere Informationen unter museum.treuchtlingen.de und in unserem Beitrag https://frankenbund.de/franken-treuchtlingen-um-1920-eine-zeitreise-im-museum-treuchtlingen/
URL:https://frankenbund.de/veranstaltung/ausstellung-franken-treuchtlingen-um-1920/
END:VEVENT
BEGIN:VEVENT
DTSTART;TZID=Europe/Berlin:20250411T000000
DTEND;TZID=Europe/Berlin:20260222T235959
DTSTAMP:20260420T094714
CREATED:20250923T090411Z
LAST-MODIFIED:20250923T090414Z
UID:10000893-1744329600-1771804799@frankenbund.de
SUMMARY:Würzburg\, Museum für Franken: 1525 – Franken fordert Freiheit*en
DESCRIPTION:Die Ausstellung bietet einen faszinierenden Einblick in die Ereignisse des Jahres 1525 und legt den Fokus auf die Beweggründe und Motive der Beteiligten: Warum kämpfen Bauern und Bäuerinnen gegen ihre Herren? Wie positionieren sich Bürgerinnen und Bürger in den fränkischen Städten? Welche Rolle spielen die Herren\, die Fürstbischöfe\, Äbte und Äbtissinnen bei der Eskalation des Konfliktes? Durch eine innovative Präsentation mit Highlightobjekten aus den eigenen Museumsbeständen\, bisher nicht gezeigten Quellentexten und Abbildungen der Zeit sowie interaktiven Stationen wird das komplexe Thema des Bauernkriegs auf verständliche Weise vermittelt. \n\n\n\nEin eigens für die Ausstellung konzipiertes Computerrollenspiel lässt nicht nur die jungen Museumsgäste einen spielerischen und emotionalen Zugang zu den komplexen Hintergründen der Belagerung des Marienbergs in Würzburg finden. Besucherinnen und Besucher ab 14 Jahren sind herzlich eingeladen\, die Ausstellung von Mitte April bis Oktober 2025 zu erkunden und in den Mitmachstationen auch ihre eigenen Vorstellungen und Meinungen zu präsentieren. \n\n\n\nBegleitet wird die Sonderausstellung durch ein vielfältiges museumspädagogisches Programm\, das Sie etwa in das Verlies Tilman Riemenschneiders auf der Festung Marienberg führt. \n\n\n\nDie Sonderausstellung „1525 – Franken fordert Freiheit*en“ verspricht eine informative und inspirierende Reise durch diese turbulente Geschichte Frankens. Seien Sie dabei und entdecken Sie die facettenreiche Welt des Bauernkriegs aus einer neuen Perspektive! \n\n\n\nhttps://museum-franken.de/besuch/ausstellungen/1525-franken-fordert-freiheiten
URL:https://frankenbund.de/veranstaltung/wuerzburg-museum-fuer-franken-1525-franken-fordert-freiheiten-2/
CATEGORIES:Ausstellung
END:VEVENT
END:VCALENDAR